BEGIN:VCALENDAR
VERSION:2.0
PRODID:-//hacksw/handcal//NONSGML v1.0//EN
BEGIN:VEVENT
DTSTAMP:20261012T010000Z
DTSTART:20261012T010000Z
DTEND:20261012T030000Z

SUMMARY:World Ballet Company: Swan Lake with a LIVE Orchestra
DESCRIPTION:
END:VEVENT
END:VCALENDAR