BEGIN:VCALENDAR
VERSION:2.0
PRODID:-//hacksw/handcal//NONSGML v1.0//EN
BEGIN:VEVENT
DTSTAMP:20260502T020000Z
DTSTART:20260502T020000Z
DTEND:20260502T050000Z

SUMMARY:Treaty Oak Revival - West Texas Degenerate Tour
DESCRIPTION:
END:VEVENT
END:VCALENDAR