BEGIN:VCALENDAR
VERSION:2.0
PRODID:-//hacksw/handcal//NONSGML v1.0//EN
BEGIN:VEVENT
DTSTAMP:20261123T030000Z
DTSTART:20261123T030000Z
DTEND:20261123T050000Z

SUMMARY:Nikki Glaser: The Stunning Tour
DESCRIPTION:
END:VEVENT
END:VCALENDAR