BEGIN:VCALENDAR
VERSION:2.0
PRODID:-//hacksw/handcal//NONSGML v1.0//EN
BEGIN:VEVENT
DTSTAMP:20260912T030000Z
DTSTART:20260912T030000Z
DTEND:20260912T050000Z

SUMMARY:Gary Owen: No Hard Feelings Tour
DESCRIPTION:
END:VEVENT
END:VCALENDAR