BEGIN:VCALENDAR
VERSION:2.0
PRODID:-//hacksw/handcal//NONSGML v1.0//EN
BEGIN:VEVENT
DTSTAMP:20260606T170000Z
DTSTART:20260606T170000Z
DTEND:20260607T010000Z

SUMMARY:20th Annual Lilac City Comicon 2026
DESCRIPTION:
END:VEVENT
END:VCALENDAR