BEGIN:VCALENDAR
VERSION:2.0
PRODID:-//hacksw/handcal//NONSGML v1.0//EN
BEGIN:VEVENT
DTSTAMP:20260503T160000Z
DTSTART:20260503T160000Z
DTEND:20260503T230000Z

SUMMARY:2026 Washington State Wrestling Association Freestyle & Greco-Roman State Wrestling Tournament 
DESCRIPTION:
END:VEVENT
END:VCALENDAR