BEGIN:VCALENDAR
VERSION:2.0
PRODID:-//hacksw/handcal//NONSGML v1.0//EN
BEGIN:VEVENT
DTSTAMP:20260510T163000Z
DTSTART:20260510T163000Z
DTEND:20260510T183000Z

SUMMARY:2026 Gonzaga Commencement at Numerica Veterans Arena
DESCRIPTION: 
END:VEVENT
END:VCALENDAR